BEGIN:VCALENDAR
VERSION:2.0
PRODID:-//Uplift Foundation - ECPv6.15.18//NONSGML v1.0//EN
CALSCALE:GREGORIAN
METHOD:PUBLISH
X-ORIGINAL-URL:https://xipiupliftfoundation.org
X-WR-CALDESC:Events for Uplift Foundation
REFRESH-INTERVAL;VALUE=DURATION:PT1H
X-Robots-Tag:noindex
X-PUBLISHED-TTL:PT1H
BEGIN:VTIMEZONE
TZID:UTC
BEGIN:STANDARD
TZOFFSETFROM:+0000
TZOFFSETTO:+0000
TZNAME:UTC
DTSTART:20250101T000000
END:STANDARD
END:VTIMEZONE
BEGIN:VTIMEZONE
TZID:America/Denver
BEGIN:DAYLIGHT
TZOFFSETFROM:-0700
TZOFFSETTO:-0600
TZNAME:MDT
DTSTART:20250309T090000
END:DAYLIGHT
BEGIN:STANDARD
TZOFFSETFROM:-0600
TZOFFSETTO:-0700
TZNAME:MST
DTSTART:20251102T080000
END:STANDARD
BEGIN:DAYLIGHT
TZOFFSETFROM:-0700
TZOFFSETTO:-0600
TZNAME:MDT
DTSTART:20260308T090000
END:DAYLIGHT
BEGIN:STANDARD
TZOFFSETFROM:-0600
TZOFFSETTO:-0700
TZNAME:MST
DTSTART:20261101T080000
END:STANDARD
BEGIN:DAYLIGHT
TZOFFSETFROM:-0700
TZOFFSETTO:-0600
TZNAME:MDT
DTSTART:20270314T090000
END:DAYLIGHT
BEGIN:STANDARD
TZOFFSETFROM:-0600
TZOFFSETTO:-0700
TZNAME:MST
DTSTART:20271107T080000
END:STANDARD
END:VTIMEZONE
BEGIN:VEVENT
DTSTART;VALUE=DATE:20261003
DTEND;VALUE=DATE:20261004
DTSTAMP:20260421T192541
CREATED:20250522T001016Z
LAST-MODIFIED:20260110T005742Z
UID:1037-1790985600-1791071999@xipiupliftfoundation.org
SUMMARY:23rd Annual Omega Showboat – AUDITIONS
DESCRIPTION:Calling all musicians\, singers\, dancers & spoken word. To register for competition\, contact Tre Foster @ 424-227-0551 or Courtney Henderson @ 706-836-0033 \n$1000 – 1 st Place\n$600 – 2 nd Place\n$400 – 3 rd Place
URL:https://xipiupliftfoundation.org/event/omega-show-boat/
END:VEVENT
BEGIN:VEVENT
DTSTART;TZID=America/Denver:20261017T170000
DTEND;TZID=America/Denver:20261017T230000
DTSTAMP:20260421T192541
CREATED:20260110T010553Z
LAST-MODIFIED:20260110T010553Z
UID:1951-1792256400-1792278000@xipiupliftfoundation.org
SUMMARY:23rd Annual Omega Showboat
DESCRIPTION:The Uplift Foundation invite you to join us as we host our 23rd Annual Omega Showboat on Saturday\, October 17\, 2026 at Phil Long Music Hall at Bourbon Brothers located at 13071 Bass Pro Dr\, Colorado Springs\, Colorado\, 80921. A welcome reception will begin at 5:30 P.M\, and the show will kick off at 7PM. Your attendance and financial support are requested and welcomed as they will enable our efforts in funding college scholarships for local students. \nOmega’s Epsilon Chapter hosted the first Omega Showboat on August 21\, 1936 in New York City as a fund-raising event to benefit youth seeking a college education. Since that time\, OPPF chapters have continued the tradition with great success. Xi Pi’s Omega Showboat continues the vision of our Omega forerunners by providing a stunning venue for showcasing local amateur talent while echoing the importance of education and service to the community. \nIn 2003\, the Xi Pi Chapter established the Uplift Foundation\, a [501(C) (3) charity] to enhance our ability to attract scholarship funds for college-bound students from the local area. We are proud to share with you that the Uplift Foundation has been good stewards of the funds raised. Over the past 22 years\, $328\,000 in scholarships have been awarded to 124 students. Additionally\, we have established a $290\,000 endowment at Colorado College\, and a $315\,000 endowed scholarship at the University of Colorado-Colorado Springs. These assets were made possible through generous support and commitment from civic-minded businesses and individuals like you in support of our Showboat and other fundraisers. Additionally\, we recently signed a new commitment with Pikes Peak State College to establish our 3rd endowment there. \nOur members have served on local school district boards and participated on numerous advisory committees supporting our public schools. Our commitment to executing charitable acts in the Pikes Peak Region is well known. With respect to philanthropic educational programs\, our Xi Pi Uplift Foundation has: \n\nSponsored financial support to Habilitation. Empowerment. Accountability. Therapy. (H.E.A.T.) for Boys\nProvided food for students by volunteering and donating funds annually to the Care and Share Food Bank\nReceived the 1st ever Forge Evolution Commitment Award (formerly Teen Court) for our classroom attendance\nDelivered planning support and male role model participants to the African American Youth Leadership Conference\nDelivered planning support and male role model participants to the Educating Children of Color Summit\nPlanned and executed the annual OPPF Talent Hunt competition for high school students to showcase their talent\nSponsored and provided financial incentives for the annual OPPF High School essay writing competition\nProvided volunteers to School District 2’s annual Back to School Backpack Bash program since its inception in 2020\nEstablished a $290\,000 endowed college fund with Colorado College\nEstablished a $315\,000 endowed college fund with the University of Colorado-Colorado Springs\nServe as an advocate for the Colorado Army National Guard\, by enhanced visibility through targeted support and strategic outreach
URL:https://xipiupliftfoundation.org/event/23rd-annual-omega-showboat/
END:VEVENT
END:VCALENDAR