BEGIN:VCALENDAR
VERSION:2.0
PRODID:-//Uplift Foundation - ECPv6.15.18//NONSGML v1.0//EN
CALSCALE:GREGORIAN
METHOD:PUBLISH
X-WR-CALNAME:Uplift Foundation
X-ORIGINAL-URL:https://xipiupliftfoundation.org
X-WR-CALDESC:Events for Uplift Foundation
REFRESH-INTERVAL;VALUE=DURATION:PT1H
X-Robots-Tag:noindex
X-PUBLISHED-TTL:PT1H
BEGIN:VTIMEZONE
TZID:UTC
BEGIN:STANDARD
TZOFFSETFROM:+0000
TZOFFSETTO:+0000
TZNAME:UTC
DTSTART:20240101T000000
END:STANDARD
END:VTIMEZONE
BEGIN:VEVENT
DTSTART;TZID=UTC:20250915T163000
DTEND;TZID=UTC:20250915T183000
DTSTAMP:20260421T161654
CREATED:20250805T030240Z
LAST-MODIFIED:20250909T223656Z
UID:1456-1757953800-1757961000@xipiupliftfoundation.org
SUMMARY:Colorado Springs Teen Court
DESCRIPTION:Every Monday 4:30 – 6:30 PM \nMembers of the Xi Pi Chapter provide mentors and life skills facilitators for Colorado Springs Teen Court. Teen Court is a unique and highly successful approach to juvenile crime. In Colorado Springs\, this independent non-profit program provides an alternative to the regular Municipal Court sentencing for first-time misdemeanor offenses committed by young people between 10 and 18 years of age. \nThe purpose of Teen Court is to hold youth offenders accountable for their actions and assist them in making better life choices through relevant sentencing options. The theme of this initiative is “Empowering Our Youth Through Restorative Justice for a Brighter Future.” \nThe Uplift Foundation provides an annual grant to support the ongoing services provided by Colorado Springs Teen Court.
URL:https://xipiupliftfoundation.org/event/colorado-springs-teen-court-3/
END:VEVENT
BEGIN:VEVENT
DTSTART;VALUE=DATE:20250912
DTEND;VALUE=DATE:20250913
DTSTAMP:20260421T161654
CREATED:20250522T010546Z
LAST-MODIFIED:20250909T224202Z
UID:1056-1757635200-1757721599@xipiupliftfoundation.org
SUMMARY:African American Youth Leadership Conference
DESCRIPTION:Dates & Times: TBD \nFor over 20 years\, The Uplift Foundation has been a significant sponsor of the African American Youth Leadership Conference (AAYLC)\, in terms of both financial and active participation. The African American Youth Leadership Conference\, since its inception on January 16\, 1993\, continues to be a hallmark forum in addressing many of the challenges facing African American youth during their progression to adulthood. \nThe Conference’s primary sponsor is the Alpha Phi Alpha Fraternity\, Inc.\, who\, in turn\, enlists the expertise and leadership of all who are dedicated to furthering the education and intellectual potential of our youth. The mission of AAYLC is to educate\, empower\, and enlighten youth to become critical thinkers\, responsible citizens\, and embrace the traditions\, histories\, and cultures of their communities. The intended participants are students of all ethnicities from 6th – 12th grade. \nIn recent years\, Colorado College has also collaborated with the myriad of sponsors and contributors in ensuring the students receive the utmost accommodations (Colorado College campus) and Mentors for the day. The Uplift Foundation\, through the Omega Men of Xi Pi Chapter\, provides “hands-on” classroom instructions\, workshop presentations\, and general administrative and leadership roles as necessary towards ensuring that the annual Conference is a success.
URL:https://xipiupliftfoundation.org/event/african-american-youth-leadership-conference/
END:VEVENT
BEGIN:VEVENT
DTSTART;TZID=UTC:20250805T163000
DTEND;TZID=UTC:20250805T183000
DTSTAMP:20260421T161654
CREATED:20250522T010643Z
LAST-MODIFIED:20250805T030201Z
UID:1058-1754411400-1754418600@xipiupliftfoundation.org
SUMMARY:Colorado Springs Teen Court
DESCRIPTION:Every Monday 4:30 – 6:30 PM \nMembers of the Xi Pi Chapter provides mentors and life skills facilitators for Colorado Springs Teen Court. Teen Court is a unique and highly successful approach to juvenile crime. In Colorado Springs\, this independent non-profit program provides an alternative\nto the regular Municipal Court sentencing for first-time misdemeanor offenses committed by young people between 10 and 18 years of age. The purpose of Teen Court is to hold youth offenders accountable for their actions and assist them in making better life choices through relevant sentencing options. The theme of this initiative is “Empowering Our Youth Through Restorative Justice for a Brighter Future.” The Uplift Foundation provides an annual grant to support the ongoing services provided by Colorado Springs Teen Court.
URL:https://xipiupliftfoundation.org/event/colorado-springs-teen-court/
END:VEVENT
END:VCALENDAR