BEGIN:VCALENDAR
VERSION:2.0
PRODID:-//Uplift Foundation - ECPv6.15.18//NONSGML v1.0//EN
CALSCALE:GREGORIAN
METHOD:PUBLISH
X-ORIGINAL-URL:https://xipiupliftfoundation.org
X-WR-CALDESC:Events for Uplift Foundation
REFRESH-INTERVAL;VALUE=DURATION:PT1H
X-Robots-Tag:noindex
X-PUBLISHED-TTL:PT1H
BEGIN:VTIMEZONE
TZID:UTC
BEGIN:STANDARD
TZOFFSETFROM:+0000
TZOFFSETTO:+0000
TZNAME:UTC
DTSTART:20250101T000000
END:STANDARD
END:VTIMEZONE
BEGIN:VEVENT
DTSTART;TZID=UTC:20260202T163000
DTEND;TZID=UTC:20260202T183000
DTSTAMP:20260421T113528
CREATED:20250909T222722Z
LAST-MODIFIED:20260110T011056Z
UID:1570-1770049800-1770057000@xipiupliftfoundation.org
SUMMARY:Colorado Springs Teen Court
DESCRIPTION:Every Monday 4:30 – 6:30 PM \nMembers of the Xi Pi Chapter provide mentors and life skills facilitators for Colorado Springs Teen Court. Teen Court is a unique and highly successful approach to juvenile crime. In Colorado Springs\, this independent non-profit program provides an alternative to the regular Municipal Court sentencing for first-time misdemeanor offenses committed by young people between 10 and 18 years of age. \nThe purpose of Teen Court is to hold youth offenders accountable for their actions and assist them in making better life choices through relevant sentencing options. The theme of this initiative is “Empowering Our Youth Through Restorative Justice for a Brighter Future.” \nThe Uplift Foundation provides an annual grant to support the ongoing services provided by Colorado Springs Teen Court.
URL:https://xipiupliftfoundation.org/event/colorado-springs-teen-court-12/
END:VEVENT
BEGIN:VEVENT
DTSTART;TZID=UTC:20260209T163000
DTEND;TZID=UTC:20260209T183000
DTSTAMP:20260421T113528
CREATED:20250909T222710Z
LAST-MODIFIED:20260110T011130Z
UID:1568-1770654600-1770661800@xipiupliftfoundation.org
SUMMARY:Colorado Springs Teen Court
DESCRIPTION:Every Monday 4:30 – 6:30 PM \nMembers of the Xi Pi Chapter provide mentors and life skills facilitators for Colorado Springs Teen Court. Teen Court is a unique and highly successful approach to juvenile crime. In Colorado Springs\, this independent non-profit program provides an alternative to the regular Municipal Court sentencing for first-time misdemeanor offenses committed by young people between 10 and 18 years of age. \nThe purpose of Teen Court is to hold youth offenders accountable for their actions and assist them in making better life choices through relevant sentencing options. The theme of this initiative is “Empowering Our Youth Through Restorative Justice for a Brighter Future.” \nThe Uplift Foundation provides an annual grant to support the ongoing services provided by Colorado Springs Teen Court.
URL:https://xipiupliftfoundation.org/event/colorado-springs-teen-court-11/
END:VEVENT
BEGIN:VEVENT
DTSTART;VALUE=DATE:20260221
DTEND;VALUE=DATE:20260222
DTSTAMP:20260421T113528
CREATED:20250805T020722Z
LAST-MODIFIED:20250909T224256Z
UID:1389-1771632000-1771718399@xipiupliftfoundation.org
SUMMARY:Educating Children Of Color Summit
DESCRIPTION:Date & Times: TBD \nThe Uplift Foundation teams with Xi Pi Chapter in supporting the Educating Children of Color Summit. It is an annual event dedicated to “dismantling the cradle-to-prison pipeline for children of color and children in poverty through education.” The Summit brings together community social\, economic\, and education professionals to offer high school students\, along with parents and educators a program of activities and presentations to assist with improving and providing social and academic awareness. \nThe Summit’s goals are encouraging youth to pursue higher education\, to support teachers to be successful educators\, and educate parents on what it takes to be college ready\, and how to hold students and schools accountable. These are goals and ideals that the Uplift Foundation supports wholeheartedly and dedicate resources to promote. The Uplift Foundation joins numerous supporters in this endeavor and continues to give funding to the Summit as one of its major annual commitments. The Uplift Foundation also partner with ECOC to award two $2\,000 scholarships to two participants. Colorado College\, Colorado Springs\, CO hosts the Summit. Due to the generous support of community businesses and organizations\, the Educating Children of Color Summit is free to students and parents.
URL:https://xipiupliftfoundation.org/event/educating-children-of-color-summit-2/
END:VEVENT
BEGIN:VEVENT
DTSTART;TZID=UTC:20260223T163000
DTEND;TZID=UTC:20260223T183000
DTSTAMP:20260421T113528
CREATED:20250909T222658Z
LAST-MODIFIED:20260110T011222Z
UID:1566-1771864200-1771871400@xipiupliftfoundation.org
SUMMARY:Colorado Springs Teen Court
DESCRIPTION:Every Monday 4:30 – 6:30 PM \nMembers of the Xi Pi Chapter provide mentors and life skills facilitators for Colorado Springs Teen Court. Teen Court is a unique and highly successful approach to juvenile crime. In Colorado Springs\, this independent non-profit program provides an alternative to the regular Municipal Court sentencing for first-time misdemeanor offenses committed by young people between 10 and 18 years of age. \nThe purpose of Teen Court is to hold youth offenders accountable for their actions and assist them in making better life choices through relevant sentencing options. The theme of this initiative is “Empowering Our Youth Through Restorative Justice for a Brighter Future.” \nThe Uplift Foundation provides an annual grant to support the ongoing services provided by Colorado Springs Teen Court.
URL:https://xipiupliftfoundation.org/event/colorado-springs-teen-court-10/
END:VEVENT
BEGIN:VEVENT
DTSTART;TZID=UTC:20260228T150000
DTEND;TZID=UTC:20260228T170000
DTSTAMP:20260421T113528
CREATED:20250805T020518Z
LAST-MODIFIED:20260110T005433Z
UID:1386-1772290800-1772298000@xipiupliftfoundation.org
SUMMARY:Xi Pi Annual High School Talent Hunt and Step Show
DESCRIPTION:February 28\, 2026: 3PM – 5PM \nEvery year\, the Xi Pi Chapter conducts an Annual Talent Hunt. The event draws a myriad of competitors from across the state of Colorado and provide an extraordinary platform for High Schoolers to showcase their various talents. The Foundation supports the chapter in awarding a total of $2\,000 in monetary prizes to the 1st\, 2nd and 3rd place contestants of both competitions.
URL:https://xipiupliftfoundation.org/event/xi-pi-annual-high-school-talent-hunt-and-step-show/
END:VEVENT
END:VCALENDAR